BEGIN:VCALENDAR
VERSION:2.0
PRODID:-//TYPO3/NONSGML News system (news)//EN
BEGIN:VEVENT
UID:news-80744@physik.uni-graz.at
DTSTAMP:20211210T132100Z
DTSTART:20211215T160000Z
DTEND:20211215T173000Z
SUMMARY:Facetten der Physik

DESCRIPTION:Doulgas Maraun: &quot;Nobelpreis für Physik 2021 - Klimamodellierung&quot;
END:VEVENT
END:VCALENDAR
