BEGIN:VCALENDAR
VERSION:2.0
PRODID:-//TYPO3/NONSGML News system (news)//EN
BEGIN:VEVENT
UID:news-86052@physik.uni-graz.at
DTSTAMP:20241223T102345Z
DTSTART:20220427T150000Z
DTEND:20220427T163000Z
SUMMARY:Facetten der Physik

DESCRIPTION:Leonhard Grill: &quot;Moleküle als Nanomaschinen - Von Atomen zu den kleinsten Rennautos&quot;
END:VEVENT
END:VCALENDAR
