BEGIN:VCALENDAR
VERSION:2.0
PRODID:-//TYPO3/NONSGML News system (news)//EN
BEGIN:VEVENT
UID:news-78564@physik.uni-graz.at
DTSTAMP:20211015T090657Z
DTSTART:20211020T130000Z
DTEND:20211020T130000Z
SUMMARY:Antrittsvortrag

DESCRIPTION:Simon Plätzer berichtet über &quot;Simulations for High Energy Collisions: From models to precision tools.&quot;
END:VEVENT
END:VCALENDAR
