BEGIN:VCALENDAR
VERSION:2.0
PRODID:-//TYPO3/NONSGML News system (news)//EN
BEGIN:VEVENT
UID:news-123490@physik.uni-graz.at
DTSTAMP:20250227T100657Z
DTSTART:20250311T093000Z
DTEND:20250311T093000Z
SUMMARY:Astrophysikalisches Kolloquium

DESCRIPTION:Dr. Harry Birch: &quot;Automated Detection of Solar Prominences: A Machine Learning Approach Using YOLOv5&quot;
END:VEVENT
END:VCALENDAR
