BEGIN:VCALENDAR
VERSION:2.0
PRODID:-//TYPO3/NONSGML News system (news)//EN
BEGIN:VEVENT
UID:news-122877@physik.uni-graz.at
DTSTAMP:20250211T083350Z
DTSTART:20250224T130000Z
DTEND:20250224T130000Z
SUMMARY:Astrophysikalisches Kolloquium

DESCRIPTION:Prof. Dr. Andrew Cameron : &quot;The Sun as a star seen through planet hunting instruments&quot;
END:VEVENT
END:VCALENDAR
