BEGIN:VCALENDAR
VERSION:2.0
PRODID:-//TYPO3/NONSGML News system (news)//EN
BEGIN:VEVENT
UID:news-122550@physik.uni-graz.at
DTSTAMP:20250129T095812Z
DTSTART:20250205T150000Z
DTEND:20250205T150000Z
SUMMARY:Astrophysikalisches Kolloquium

DESCRIPTION:Prof. Dr. Klaus Strassmeier: &quot;Feel the taste: try a Pepsi&quot;
END:VEVENT
END:VCALENDAR
