BEGIN:VCALENDAR
VERSION:2.0
PRODID:-//TYPO3/NONSGML News system (news)//EN
BEGIN:VEVENT
UID:news-62057@physik.uni-graz.at
DTSTAMP:20200129T144845Z
DTSTART:20200129T154500Z
DTEND:20200129T170000Z
SUMMARY:Astrophysikalisches Kolloquium

DESCRIPTION:Herr Dr. Kuschnig berichtet über &quot;BRIght Target Explorer: a constellation of 6 nano satellites and 3 countries&quot;
END:VEVENT
END:VCALENDAR
