BEGIN:VCALENDAR
VERSION:2.0
PRODID:-//TYPO3/NONSGML News system (news)//EN
BEGIN:VEVENT
UID:news-65278@physik.uni-graz.at
DTSTAMP:20200619T101242Z
DTSTART:20200617T150000Z
DTEND:20200617T160000Z
SUMMARY:Astrophysikalisches Kolloquium

DESCRIPTION:Prof. Dr. Eduard Guinan: &quot;The recent ‘Fainting’ of the bright Red Supergiant Betelgeuse: Prelude to a Supernova?”
END:VEVENT
END:VCALENDAR
