BEGIN:VCALENDAR
VERSION:2.0
PRODID:-//TYPO3/NONSGML News system (news)//EN
BEGIN:VEVENT
UID:news-65526@physik.uni-graz.at
DTSTAMP:20200619T101420Z
DTSTART:20200701T150000Z
DTEND:20200701T150000Z
SUMMARY:Astrophysikalisches Kolloquium

DESCRIPTION:Dr. Angelos Vourlidas: &quot;The solar corona from within: overview of WISPR science results and future outlook”
END:VEVENT
END:VCALENDAR
