BEGIN:VCALENDAR
VERSION:2.0
PRODID:-//TYPO3/NONSGML News system (news)//EN
BEGIN:VEVENT
UID:news-67687@physik.uni-graz.at
DTSTAMP:20201015T095654Z
DTSTART:20201028T160000Z
DTEND:20201028T160000Z
SUMMARY:Astrophysikalisches Kolloquium

DESCRIPTION:Prof.Dr. Artie Hatzes: &quot;Thirty Years of Hunting for Exoplanets: A personal view”

END:VEVENT
END:VCALENDAR
