BEGIN:VCALENDAR
VERSION:2.0
PRODID:-//TYPO3/NONSGML News system (news)//EN
BEGIN:VEVENT
UID:news-68422@physik.uni-graz.at
DTSTAMP:20201104T103335Z
DTSTART:20201118T160000Z
DTEND:20201118T160000Z
SUMMARY:Astrophysikalisches Kolloquium

DESCRIPTION:Dr. Jingnan Guo: &quot;Space weather challenges for future manned Mars missions&quot;
END:VEVENT
END:VCALENDAR
