BEGIN:VCALENDAR
VERSION:2.0
PRODID:-//TYPO3/NONSGML News system (news)//EN
BEGIN:VEVENT
UID:news-69147@physik.uni-graz.at
DTSTAMP:20201126T145606Z
DTSTART:20201202T160000Z
DTEND:20201202T160000Z
SUMMARY:Astrophysikalisches Kolloquium

DESCRIPTION: Prof. Dr. Hans Deeg: &quot;Boyajian&#039;s star and friends:Strange dips and an unsolved mystery”
END:VEVENT
END:VCALENDAR
