BEGIN:VCALENDAR
VERSION:2.0
PRODID:-//TYPO3/NONSGML News system (news)//EN
BEGIN:VEVENT
UID:news-72324@physik.uni-graz.at
DTSTAMP:20210303T110036Z
DTSTART:20210303T160000Z
DTEND:20210303T180000Z
SUMMARY:Astrophysikalisches Kolloquium

DESCRIPTION:Dr. Jörn Warnecke: &quot;Modelling solar and stellar activity from the dynamo to the corona”
END:VEVENT
END:VCALENDAR
