BEGIN:VCALENDAR
VERSION:2.0
PRODID:-//TYPO3/NONSGML News system (news)//EN
BEGIN:VEVENT
UID:news-73973@physik.uni-graz.at
DTSTAMP:20210507T112031Z
DTSTART:20210505T150000Z
DTEND:20210505T170000Z
SUMMARY:Astrophysikalisches Kolloquium

DESCRIPTION:Savita Mathur: &quot;Rotation and magnetic activity of solar-like stars: where does the Sun stand?”
END:VEVENT
END:VCALENDAR
