BEGIN:VCALENDAR
VERSION:2.0
PRODID:-//TYPO3/NONSGML News system (news)//EN
BEGIN:VEVENT
UID:news-75137@physik.uni-graz.at
DTSTAMP:20210602T123105Z
DTSTART:20210616T150000Z
DTEND:20210616T170000Z
SUMMARY:Astrophysikalisches Kolloquium

DESCRIPTION:Stefan Kimeswenger: &quot;A decade of Austrian membership in ESO - and current future science opportunities&quot;
END:VEVENT
END:VCALENDAR
