BEGIN:VCALENDAR
VERSION:2.0
PRODID:-//TYPO3/NONSGML News system (news)//EN
BEGIN:VEVENT
UID:news-75923@physik.uni-graz.at
DTSTAMP:20210630T123308Z
DTSTART:20210707T150000Z
DTEND:20210707T170000Z
SUMMARY:Astrophysikalisches Kolloquium

DESCRIPTION:Manolis K. Georgoulis: &quot;Solar / Stellar Eruptions and Planetary Forcing: a First Principles, Unifying Approach”
END:VEVENT
END:VCALENDAR
