BEGIN:VCALENDAR
VERSION:2.0
PRODID:-//TYPO3/NONSGML News system (news)//EN
BEGIN:VEVENT
UID:news-78477@physik.uni-graz.at
DTSTAMP:20211012T092926Z
DTSTART:20211013T150000Z
DTEND:20211013T170000Z
SUMMARY:Astrophysikalisches Kolloquium

DESCRIPTION:Dr. Deborah Baker: &quot;How can magnetic activity change the plasma composition of solar and stellar coronae?&quot;
END:VEVENT
END:VCALENDAR
