BEGIN:VCALENDAR
VERSION:2.0
PRODID:-//TYPO3/NONSGML News system (news)//EN
BEGIN:VEVENT
UID:news-70303@physik.uni-graz.at
DTSTAMP:20210108T103242Z
DTSTART:20210113T160000Z
DTEND:20210113T160000Z
SUMMARY:Astrophysikalisches Kolloquium

DESCRIPTION:Dr. Eike Günther: &quot;Cool planets of cool stars: how habitable are they really?”

END:VEVENT
END:VCALENDAR
