BEGIN:VCALENDAR
VERSION:2.0
PRODID:-//TYPO3/NONSGML News system (news)//EN
BEGIN:VEVENT
UID:news-72655@physik.uni-graz.at
DTSTAMP:20210430T065935Z
DTSTART:20210324T150000Z
DTEND:20210324T160000Z
SUMMARY:Astrophysikalisches Kolloquium

DESCRIPTION:Mads Fredslund Andersen: &quot;The expansion of the SONG network – a high precision radial velocity instrument”

END:VEVENT
END:VCALENDAR
