BEGIN:VCALENDAR
VERSION:2.0
PRODID:-//TYPO3/NONSGML News system (news)//EN
BEGIN:VEVENT
UID:news-73626@physik.uni-graz.at
DTSTAMP:20210507T112116Z
DTSTART:20210428T150000Z
DTEND:20210428T150000Z
SUMMARY:Astrophysikalisches Kolloquium

DESCRIPTION:Aldo Serenelli &quot;State of the art of solar models: seismology, opacities, neutrinos and implications for stellar physics”

END:VEVENT
END:VCALENDAR
