BEGIN:VCALENDAR
VERSION:2.0
PRODID:-//TYPO3/NONSGML News system (news)//EN
BEGIN:VEVENT
UID:news-74518@physik.uni-graz.at
DTSTAMP:20210517T114254Z
DTSTART:20210526T150000Z
DTEND:20210526T150000Z
SUMMARY:Astrophysikalisches Kolloquium

DESCRIPTION:Ximena Abrevaya: &quot;When Astrophysics meets Biology: re-estimating UV habitability and stellar (super)flare impact on life through experiments”
END:VEVENT
END:VCALENDAR
