BEGIN:VCALENDAR
VERSION:2.0
PRODID:-//TYPO3/NONSGML News system (news)//EN
BEGIN:VEVENT
UID:news-79381@physik.uni-graz.at
DTSTAMP:20211108T083625Z
DTSTART:20211110T160000Z
DTEND:20211110T160000Z
SUMMARY:Astrophysikalisches Kolloquium

DESCRIPTION:Paula Jofre (Astronomy Nucleus at the University Diego Portales): &quot;Stellar Phylogenies – Benchmark stars and benchmark tests for Galactic Archaeology”
END:VEVENT
END:VCALENDAR
