BEGIN:VCALENDAR
VERSION:2.0
PRODID:-//TYPO3/NONSGML News system (news)//EN
BEGIN:VEVENT
UID:news-84555@physik.uni-graz.at
DTSTAMP:20220311T095907Z
DTSTART:20220316T160000Z
DTEND:20220316T180000Z
SUMMARY:Astrophysikalisches Kolloquium

DESCRIPTION:DI Gerhard Balda: &quot;Design von optischen Spiegelteleskopen – am Beispiel des ASA50 am Observatorium Lustbühel&quot;
END:VEVENT
END:VCALENDAR
