BEGIN:VCALENDAR
VERSION:2.0
PRODID:-//TYPO3/NONSGML News system (news)//EN
BEGIN:VEVENT
UID:news-86047@physik.uni-graz.at
DTSTAMP:20220420T125408Z
DTSTART:20220427T140000Z
DTEND:20220427T160000Z
SUMMARY:Astrophysikalisches Kolloquium

DESCRIPTION:Prof.Dr. Stefaan Poedts: &quot;Space weather modelling with EUHFORIA&quot;
END:VEVENT
END:VCALENDAR
