BEGIN:VCALENDAR
VERSION:2.0
PRODID:-//TYPO3/NONSGML News system (news)//EN
BEGIN:VEVENT
UID:news-88400@physik.uni-graz.at
DTSTAMP:20241223T102345Z
DTSTART:20220615T133000Z
DTEND:20220615T150000Z
SUMMARY:Astrophysikalisches Kolloquium

DESCRIPTION:Isabell Piantschitsch: &quot;The role of initial density profiles in MHD-simulations of the interaction between global coronal waves and coronal holes&quot;
END:VEVENT
END:VCALENDAR
