BEGIN:VCALENDAR
VERSION:2.0
PRODID:-//TYPO3/NONSGML News system (news)//EN
BEGIN:VEVENT
UID:news-86767@physik.uni-graz.at
DTSTAMP:20241223T102345Z
DTSTART:20220518T150000Z
DTEND:20220518T170000Z
SUMMARY:Astrophysikalisches Kolloquium

DESCRIPTION:Prof. Dr. Jamie Tayar: &quot;The Evolution of Stellar Rotation: Alone and Together, Inside and Out&quot;
END:VEVENT
END:VCALENDAR
