BEGIN:VCALENDAR
VERSION:2.0
PRODID:-//TYPO3/NONSGML News system (news)//EN
BEGIN:VEVENT
UID:news-80518@physik.uni-graz.at
DTSTAMP:20211130T112943Z
DTSTART:20211201T160000Z
DTEND:20211201T160000Z
SUMMARY:Astrophysikalisches Kolloquium

DESCRIPTION:Laurent Gizon (Max Planck Institute for Solar System Research) &quot;The Sun&#039;s inertial modes of oscillation”
END:VEVENT
END:VCALENDAR
