BEGIN:VCALENDAR
VERSION:2.0
PRODID:-//TYPO3/NONSGML News system (news)//EN
BEGIN:VEVENT
UID:news-97424@physik.uni-graz.at
DTSTAMP:20241223T102345Z
DTSTART:20221130T160000Z
DTEND:20221130T173000Z
SUMMARY:Astrophysikalisches Kolloquium

DESCRIPTION:Dr. Orlagh Creevey: &quot;Gaia Data Release 3: astrophysical parameters and a focus on Sun-like stars&quot;
END:VEVENT
END:VCALENDAR
