BEGIN:VCALENDAR
VERSION:2.0
PRODID:-//TYPO3/NONSGML News system (news)//EN
BEGIN:VEVENT
UID:news-102414@physik.uni-graz.at
DTSTAMP:20241223T102345Z
DTSTART:20230503T153000Z
DTEND:20230503T163000Z
SUMMARY:Astrophysikalisches Kolloquium

DESCRIPTION:Dr. Camilla Scolini: &quot;The Magnetic Complexity and Coherence of Interplanetary Coronal Mass Ejections”
END:VEVENT
END:VCALENDAR
