BEGIN:VCALENDAR
VERSION:2.0
PRODID:-//TYPO3/NONSGML News system (news)//EN
BEGIN:VEVENT
UID:news-98956@physik.uni-graz.at
DTSTAMP:20241223T102345Z
DTSTART:20230118T160000Z
DTEND:20230118T173000Z
SUMMARY:Astrophysikalisches Kolloquium

DESCRIPTION:Dr. Sanchita Pal: &quot;A simple approach to modeling coronal mass ejections (CMEs) at the inner heliosphere”
END:VEVENT
END:VCALENDAR
