BEGIN:VCALENDAR
VERSION:2.0
PRODID:-//TYPO3/NONSGML News system (news)//EN
BEGIN:VEVENT
UID:news-101264@physik.uni-graz.at
DTSTAMP:20241223T102345Z
DTSTART:20230330T150000Z
DTEND:20230330T163000Z
SUMMARY:Astrophysikalisches Kolloquium

DESCRIPTION:Antonino Francesco Lanza: &quot;Commensurability between starspot rotation and planetary orbital motion in Kepler-17, Kepler-63, and HAT-P-11: a strange coincidence or planetary-modulated magnetic activity in late-type stars?&quot;
END:VEVENT
END:VCALENDAR
