BEGIN:VCALENDAR
VERSION:2.0
PRODID:-//TYPO3/NONSGML News system (news)//EN
BEGIN:VEVENT
UID:news-113687@physik.uni-graz.at
DTSTAMP:20241223T102345Z
DTSTART:20240424T140000Z
DTEND:20240424T140000Z
SUMMARY:Astrophysikalisches Kolloquium

DESCRIPTION:Pejin Zhang  &quot;Understanding Solar Activities Through Low-Frequency Radio Observation”
END:VEVENT
END:VCALENDAR
