BEGIN:VCALENDAR
VERSION:2.0
PRODID:-//TYPO3/NONSGML News system (news)//EN
BEGIN:VEVENT
UID:news-115231@physik.uni-graz.at
DTSTAMP:20241223T102345Z
DTSTART:20240605T140000Z
DTEND:20240605T140000Z
SUMMARY:Astrophysikalisches Kolloquium

DESCRIPTION:N. Xirogiannopoulou: &quot;Subsolar compressive foreshock structures and their connection to the magnetosheath”
END:VEVENT
END:VCALENDAR
