BEGIN:VCALENDAR
VERSION:2.0
PRODID:-//TYPO3/NONSGML News system (news)//EN
BEGIN:VEVENT
UID:news-114503@physik.uni-graz.at
DTSTAMP:20241223T102345Z
DTSTART:20240514T140000Z
DTEND:20240514T140000Z
SUMMARY:Astrophysikalisches Kolloquium

DESCRIPTION:Graham Barnes: &quot;The Magnetic Topology of Solar Eruptions: Can We Find the Skeleton that Comes Out of the Closet?”
END:VEVENT
END:VCALENDAR
