BEGIN:VCALENDAR
VERSION:2.0
PRODID:-//TYPO3/NONSGML News system (news)//EN
BEGIN:VEVENT
UID:news-103430@physik.uni-graz.at
DTSTAMP:20241223T102345Z
DTSTART:20230531T150000Z
DTEND:20230531T163000Z
SUMMARY:Astrophysikalisches Kolloquium

DESCRIPTION:Shravan Hanasoge: &quot;Helioseismic discovery of unexpected high-frequency inertial modes&quot;
END:VEVENT
END:VCALENDAR
