BEGIN:VCALENDAR
VERSION:2.0
PRODID:-//TYPO3/NONSGML News system (news)//EN
BEGIN:VEVENT
UID:news-80788@physik.uni-graz.at
DTSTAMP:20211210T132808Z
DTSTART:20211213T150000Z
DTEND:20211213T163000Z
SUMMARY:Auszeichnung Wissenschaftszweig Physik

DESCRIPTION:Der Wissenschaftszweig Physik wird, was Nachwuchsförderung, Einstiegschancen und Aufstiegschancen im Sinne von Gleichstellung von Männern und Frauen an der Universität betrifft, eine Auszeichnung für das Jahr 2019 erhalten.
END:VEVENT
END:VCALENDAR
