BEGIN:VCALENDAR
VERSION:2.0
PRODID:-//TYPO3/NONSGML News system (news)//EN
BEGIN:VEVENT
UID:news-66217@physik.uni-graz.at
DTSTAMP:20201015T095747Z
DTSTART:20201105T112400Z
DTEND:20201106T112600Z
SUMMARY:5th/6th of November 2020 - University of Graz

DESCRIPTION:&quot;Conceptual and Phenomenological Reflections on Gauge Symmetries, the Brout-Englert-Higgs Mechanism, Particles, and Observables&quot; 
END:VEVENT
END:VCALENDAR
