BEGIN:VCALENDAR
VERSION:2.0
PRODID:-//TYPO3/NONSGML News system (news)//EN
BEGIN:VEVENT
UID:news-86385@physik.uni-graz.at
DTSTAMP:20241223T102345Z
DTSTART:20220510T080000Z
DTEND:20220510T100000Z
SUMMARY:Die Farben des Lichts – Von der CD zum Spektrometer

DESCRIPTION:Workshop für Schüler*innen der Oberstufe
END:VEVENT
END:VCALENDAR
