BEGIN:VCALENDAR
VERSION:2.0
PRODID:-//TYPO3/NONSGML News system (news)//EN
BEGIN:VEVENT
UID:news-113464@physik.uni-graz.at
DTSTAMP:20241223T102345Z
DTSTART:20240610T080000Z
DTEND:20240610T080000Z
SUMMARY:Vortragsreihe &quot;Neues Lehramt Physik&quot; 

DESCRIPTION:Dr. Irene Neumann: &quot;Die Rolle(n) der Mathematik im Lehramtsstudium Physik&quot;
END:VEVENT
END:VCALENDAR
