BEGIN:VCALENDAR
VERSION:2.0
PRODID:-//TYPO3/NONSGML News system (news)//EN
BEGIN:VEVENT
UID:news-110332@physik.uni-graz.at
DTSTAMP:20241223T102345Z
DTSTART:20240212T120000Z
DTEND:20240212T170000Z
SUMMARY:DINAMA Day 2024

DESCRIPTION:Am 12.2.2024 haben interessierte Schüler:innen ab der 11. Schulstufe die Möglichkeit, einen Einblick in die Fach- und Lehramtsstudienrichtungen Biologie, Chemie, Physik und Mathematik zu bekommen. 
END:VEVENT
END:VCALENDAR
