BEGIN:VCALENDAR
VERSION:2.0
PRODID:-//TYPO3/NONSGML News system (news)//EN
BEGIN:VEVENT
UID:news-99652@physik.uni-graz.at
DTSTAMP:20241223T102345Z
DTSTART:20230213T120000Z
DTEND:20230213T170000Z
SUMMARY:DINAMA-Day am 13.02.2023

DESCRIPTION:Dein Einblick in die Studienrichtungen Biologie, Chemie, Physik und Mathematik - Lehramt Sekundarstufe AB: Biologie und Umweltkunde, Chemie, Physik und Mathematik
END:VEVENT
END:VCALENDAR
