BEGIN:VCALENDAR
VERSION:2.0
PRODID:-//TYPO3/NONSGML News system (news)//EN
BEGIN:VEVENT
UID:news-104391@physik.uni-graz.at
DTSTAMP:20241223T102345Z
DTSTART:20230705T063000Z
DTEND:20230705T140000Z
SUMMARY:Doc Day 2023

DESCRIPTION:Am 05. Juli 2023 findet am Institut für Physik der Doc Day statt. 
END:VEVENT
END:VCALENDAR
