BEGIN:VCALENDAR
VERSION:2.0
PRODID:-//TYPO3/NONSGML News system (news)//EN
BEGIN:VEVENT
UID:news-113883@physik.uni-graz.at
DTSTAMP:20241223T102345Z
DTSTART:20240607T080000Z
DTEND:20240607T080000Z
SUMMARY:Eröffnung &quot;Historic Site&quot;

DESCRIPTION:Auszeichnung der Europäischen Physikalischen Gesellschaft
END:VEVENT
END:VCALENDAR
