BEGIN:VCALENDAR
VERSION:2.0
PRODID:-//TYPO3/NONSGML News system (news)//EN
BEGIN:VEVENT
UID:news-107146@physik.uni-graz.at
DTSTAMP:20241223T102345Z
DTSTART:20231016T094500Z
DTEND:20231016T111500Z
SUMMARY:Get together!

DESCRIPTION:Erstsemestrigen-Lunch für Lehramtsstudierende
END:VEVENT
END:VCALENDAR
