BEGIN:VCALENDAR
VERSION:2.0
PRODID:-//TYPO3/NONSGML News system (news)//EN
BEGIN:VEVENT
UID:news-82812@physik.uni-graz.at
DTSTAMP:20220201T132653Z
DTSTART:20220202T160000Z
DTEND:20220202T173000Z
SUMMARY:ABGESAGT: Facetten der Physik

DESCRIPTION:Der Vortrag von Frau Barbara Stadlober: &quot;Nano goes macro - Wie Nanostrukturen die Fläche erobern&quot; findet weder in Präsenz noch online statt.
END:VEVENT
END:VCALENDAR
