BEGIN:VCALENDAR
VERSION:2.0
PRODID:-//TYPO3/NONSGML News system (news)//EN
BEGIN:VEVENT
UID:news-87726@physik.uni-graz.at
DTSTAMP:20241223T102345Z
DTSTART:20220525T150000Z
DTEND:20220525T163000Z
SUMMARY:Facetten der Physik

DESCRIPTION:Barbara Stadlboer: &quot;Nano goes macro - Wie Nanostrukturen die Fläche erobern&quot;
END:VEVENT
END:VCALENDAR
