BEGIN:VCALENDAR
VERSION:2.0
PRODID:-//TYPO3/NONSGML News system (news)//EN
BEGIN:VEVENT
UID:news-88440@physik.uni-graz.at
DTSTAMP:20241223T102345Z
DTSTART:20220608T150000Z
DTEND:20220608T163000Z
SUMMARY:Facetten der Physik

DESCRIPTION:&quot;Mit den größten Energien zu den kleinsten Teilchen des Universums&quot;
END:VEVENT
END:VCALENDAR
