BEGIN:VCALENDAR
VERSION:2.0
PRODID:-//TYPO3/NONSGML News system (news)//EN
BEGIN:VEVENT
UID:news-69764@physik.uni-graz.at
DTSTAMP:20210108T102543Z
DTSTART:20201209T160000Z
DTEND:20201209T160000Z
SUMMARY:Facetten der Physik

DESCRIPTION:R. Alkofer: &quot;Nobelpreis Physik 2020 - Theorie und Nachweis Schwarzer Löcher&quot;
END:VEVENT
END:VCALENDAR
