BEGIN:VCALENDAR
VERSION:2.0
PRODID:-//TYPO3/NONSGML News system (news)//EN
BEGIN:VEVENT
UID:news-84243@physik.uni-graz.at
DTSTAMP:20220303T093918Z
DTSTART:20220309T160000Z
DTEND:20220309T160000Z
SUMMARY:Facetten der Physik

DESCRIPTION:Ulrich Foelsche: &quot;Was kann uns Frankenstein über das Klima erzählen?&quot;
END:VEVENT
END:VCALENDAR
