BEGIN:VCALENDAR
VERSION:2.0
PRODID:-//TYPO3/NONSGML News system (news)//EN
BEGIN:VEVENT
UID:news-70636@physik.uni-graz.at
DTSTAMP:20210120T081823Z
DTSTART:20210120T160000Z
DTEND:20210120T183000Z
SUMMARY:Facetten der Physik

DESCRIPTION:Thomas Schubatzky: &quot;Klimawandel verständlich für alle –(wie) geht das?&quot;
END:VEVENT
END:VCALENDAR
